BEGIN:VCALENDAR
VERSION:2.0
PRODID:-//https://www.daiquirideckbradentonbeach.com///NONSGML kigkonsult.se iCalcreator 2.10.15//
METHOD:PUBLISH
BEGIN:VEVENT
UID:20260422T122857UTC-2401mV4KRI@https://www.daiquirideckbradentonbeach.co
 m/
DTSTAMP:20260422T122857Z
DESCRIPTION: https://www.daiquirideckbradentonbeach.com/component/rseventsp
 ro/event/4172-6p-vince-b?Itemid=221
DTSTART;VALUE=DATE:20260522
LOCATION:Daiquiri Deck Island of Venice (300 W Venice Ave\, Venice\, FL 342
 85)
SUMMARY:  6p Vince B
URL:https://www.daiquirideckbradentonbeach.com/component/rseventspro/event/
 4172-6p-vince-b?Itemid=221
END:VEVENT
END:VCALENDAR
