BEGIN:VCALENDAR
VERSION:2.0
PRODID:-//https://www.daiquirideckbradentonbeach.com///NONSGML kigkonsult.se iCalcreator 2.10.15//
METHOD:PUBLISH
BEGIN:VEVENT
UID:20260423T064418UTC-3034IZ3u7m@https://www.daiquirideckbradentonbeach.co
 m/
DTSTAMP:20260423T064418Z
DESCRIPTION: https://www.daiquirideckbradentonbeach.com/component/rseventsp
 ro/event/4163-5p-nathaniel-lee-white?Itemid=221
DTSTART;VALUE=DATE:20260531
LOCATION:Daiquiri Deck Island of Venice (300 W Venice Ave\, Venice\, FL 342
 85)
SUMMARY:5p Nathaniel Lee White
URL:https://www.daiquirideckbradentonbeach.com/component/rseventspro/event/
 4163-5p-nathaniel-lee-white?Itemid=221
END:VEVENT
END:VCALENDAR
