BEGIN:VCALENDAR
VERSION:2.0
PRODID:-//https://www.daiquirideckbradentonbeach.com///NONSGML kigkonsult.se iCalcreator 2.10.15//
METHOD:PUBLISH
BEGIN:VEVENT
UID:20260423T023342UTC-4818H8vaod@https://www.daiquirideckbradentonbeach.co
 m/
DTSTAMP:20260423T023342Z
DESCRIPTION: https://www.daiquirideckbradentonbeach.com/component/rseventsp
 ro/event/4161-4p-ryan-judy?Itemid=221
DTSTART;VALUE=DATE:20260529
LOCATION:Daiquiri Deck Island of Venice (300 W Venice Ave\, Venice\, FL 342
 85)
SUMMARY:4p Ryan Judy
URL:https://www.daiquirideckbradentonbeach.com/component/rseventspro/event/
 4161-4p-ryan-judy?Itemid=221
END:VEVENT
END:VCALENDAR
