BEGIN:VCALENDAR
VERSION:2.0
PRODID:-//https://www.daiquirideckbradentonbeach.com///NONSGML kigkonsult.se iCalcreator 2.10.15//
METHOD:PUBLISH
BEGIN:VEVENT
UID:20260422T202204UTC-7966v4RTSw@https://www.daiquirideckbradentonbeach.co
 m/
DTSTAMP:20260422T202204Z
DESCRIPTION: https://www.daiquirideckbradentonbeach.com/component/rseventsp
 ro/event/4158-12p-lonnie-paul?Itemid=221
DTSTART;VALUE=DATE:20260526
LOCATION:Daiquiri Deck Island of Venice (300 W Venice Ave\, Venice\, FL 342
 85)
SUMMARY:12p Lonnie Paul
URL:https://www.daiquirideckbradentonbeach.com/component/rseventspro/event/
 4158-12p-lonnie-paul?Itemid=221
END:VEVENT
END:VCALENDAR
