BEGIN:VCALENDAR
VERSION:2.0
PRODID:-//https://www.daiquirideckbradentonbeach.com///NONSGML kigkonsult.se iCalcreator 2.10.15//
METHOD:PUBLISH
BEGIN:VEVENT
UID:20260422T160224UTC-2679oVeuv4@https://www.daiquirideckbradentonbeach.co
 m/
DTSTAMP:20260422T160224Z
DESCRIPTION: https://www.daiquirideckbradentonbeach.com/component/rseventsp
 ro/event/4156-4p-maddie-lin?Itemid=221
DTSTART;VALUE=DATE:20260524
LOCATION:Daiquiri Deck Island of Venice (300 W Venice Ave\, Venice\, FL 342
 85)
SUMMARY:4p Maddie Lin
URL:https://www.daiquirideckbradentonbeach.com/component/rseventspro/event/
 4156-4p-maddie-lin?Itemid=221
END:VEVENT
END:VCALENDAR
