BEGIN:VCALENDAR
VERSION:2.0
PRODID:-//https://www.daiquirideckbradentonbeach.com///NONSGML kigkonsult.se iCalcreator 2.10.15//
METHOD:PUBLISH
BEGIN:VEVENT
UID:20260424T142543UTC-2286xmX8Ds@https://www.daiquirideckbradentonbeach.co
 m/
DTSTAMP:20260424T142543Z
DESCRIPTION: https://www.daiquirideckbradentonbeach.com/component/rseventsp
 ro/event/4105-4p-gulf-coastin-life?Itemid=221
DTSTART;VALUE=DATE:20260503
LOCATION:Daiquiri Deck Bradenton Beach (107 Bridge St\, Bradenton Beach\, F
 L 34217)
SUMMARY:4p Gulf Coastin.Life
URL:https://www.daiquirideckbradentonbeach.com/component/rseventspro/event/
 4105-4p-gulf-coastin-life?Itemid=221
END:VEVENT
END:VCALENDAR
