BEGIN:VCALENDAR
VERSION:2.0
PRODID:-//https://www.daiquirideckbradentonbeach.com///NONSGML kigkonsult.se iCalcreator 2.10.15//
METHOD:PUBLISH
BEGIN:VEVENT
UID:20260422T094658UTC-5460tLrF0z@https://www.daiquirideckbradentonbeach.co
 m/
DTSTAMP:20260422T094658Z
DESCRIPTION: https://www.daiquirideckbradentonbeach.com/component/rseventsp
 ro/event/4095-12p-bain-beakley?Itemid=221
DTSTART;VALUE=DATE:20260526
LOCATION:Daiquiri Deck St. Armands Circle (325 John Ringling Blvd\, Sarasot
 a\, FL 34236)
SUMMARY:12p Bain Beakley
URL:https://www.daiquirideckbradentonbeach.com/component/rseventspro/event/
 4095-12p-bain-beakley?Itemid=221
END:VEVENT
END:VCALENDAR
