BEGIN:VCALENDAR
VERSION:2.0
PRODID:-//https://www.daiquirideckbradentonbeach.com///NONSGML kigkonsult.se iCalcreator 2.10.15//
METHOD:PUBLISH
BEGIN:VEVENT
UID:20260422T041427UTC-92638TOMeH@https://www.daiquirideckbradentonbeach.co
 m/
DTSTAMP:20260422T041427Z
DESCRIPTION: https://www.daiquirideckbradentonbeach.com/component/rseventsp
 ro/event/4091-11a-gary-alexander?Itemid=221
DTSTART;VALUE=DATE:20260523
LOCATION:Daiquiri Deck St. Armands Circle (325 John Ringling Blvd\, Sarasot
 a\, FL 34236)
SUMMARY:11a Gary Alexander   
URL:https://www.daiquirideckbradentonbeach.com/component/rseventspro/event/
 4091-11a-gary-alexander?Itemid=221
END:VEVENT
END:VCALENDAR
