BEGIN:VCALENDAR
VERSION:2.0
PRODID:-//https://www.daiquirideckbradentonbeach.com///NONSGML kigkonsult.se iCalcreator 2.10.15//
METHOD:PUBLISH
BEGIN:VEVENT
UID:20260422T022408UTC-3698ZLWx5e@https://www.daiquirideckbradentonbeach.co
 m/
DTSTAMP:20260422T022408Z
DESCRIPTION: https://www.daiquirideckbradentonbeach.com/component/rseventsp
 ro/event/4090-6p-flash-back-friday-karaoke?Itemid=221
DTSTART;VALUE=DATE:20260522
LOCATION:Daiquiri Deck St. Armands Circle (325 John Ringling Blvd\, Sarasot
 a\, FL 34236)
SUMMARY: 6p Flash Back Friday Karaoke
URL:https://www.daiquirideckbradentonbeach.com/component/rseventspro/event/
 4090-6p-flash-back-friday-karaoke?Itemid=221
END:VEVENT
END:VCALENDAR
