BEGIN:VCALENDAR
VERSION:2.0
PRODID:-//https://www.daiquirideckbradentonbeach.com///NONSGML kigkonsult.se iCalcreator 2.10.15//
METHOD:PUBLISH
BEGIN:VEVENT
UID:20260421T190704UTC-8073oAuw0G@https://www.daiquirideckbradentonbeach.co
 m/
DTSTAMP:20260421T190704Z
DESCRIPTION: https://www.daiquirideckbradentonbeach.com/component/rseventsp
 ro/event/4085-12p-frankie-lombardi?Itemid=221
DTSTART;VALUE=DATE:20260518
LOCATION:Daiquiri Deck St. Armands Circle (325 John Ringling Blvd\, Sarasot
 a\, FL 34236)
SUMMARY:12p Frankie Lombardi
URL:https://www.daiquirideckbradentonbeach.com/component/rseventspro/event/
 4085-12p-frankie-lombardi?Itemid=221
END:VEVENT
END:VCALENDAR
