BEGIN:VCALENDAR
VERSION:2.0
PRODID:-//https://www.daiquirideckbradentonbeach.com///NONSGML kigkonsult.se iCalcreator 2.10.15//
METHOD:PUBLISH
BEGIN:VEVENT
UID:20260421T143205UTC-8513p69t3f@https://www.daiquirideckbradentonbeach.co
 m/
DTSTAMP:20260421T143205Z
DESCRIPTION: https://www.daiquirideckbradentonbeach.com/component/rseventsp
 ro/event/4080-11a-gary-alexander?Itemid=221
DTSTART;VALUE=DATE:20260515
LOCATION:Daiquiri Deck St. Armands Circle (325 John Ringling Blvd\, Sarasot
 a\, FL 34236)
SUMMARY:11a Gary Alexander 
URL:https://www.daiquirideckbradentonbeach.com/component/rseventspro/event/
 4080-11a-gary-alexander?Itemid=221
END:VEVENT
END:VCALENDAR
