BEGIN:VCALENDAR
VERSION:2.0
PRODID:-//https://www.daiquirideckbradentonbeach.com///NONSGML kigkonsult.se iCalcreator 2.10.15//
METHOD:PUBLISH
BEGIN:VEVENT
UID:20260422T031600UTC-1995XHZn5g@https://www.daiquirideckbradentonbeach.co
 m/
DTSTAMP:20260422T031600Z
DESCRIPTION: https://www.daiquirideckbradentonbeach.com/component/rseventsp
 ro/event/4053-4p-rob-garcia?Itemid=221
DTSTART;VALUE=DATE:20260523
LOCATION:Daiquiri Deck South Siesta Key (1250 Stickney Point Rd\, Siesta Ke
 y\, FL 34242)
SUMMARY:  4p Rob Garcia 
URL:https://www.daiquirideckbradentonbeach.com/component/rseventspro/event/
 4053-4p-rob-garcia?Itemid=221
END:VEVENT
END:VCALENDAR
