BEGIN:VCALENDAR
VERSION:2.0
PRODID:-//https://www.daiquirideckbradentonbeach.com///NONSGML kigkonsult.se iCalcreator 2.10.15//
METHOD:PUBLISH
BEGIN:VEVENT
UID:20260422T012633UTC-7954bkaZL7@https://www.daiquirideckbradentonbeach.co
 m/
DTSTAMP:20260422T012633Z
DESCRIPTION: https://www.daiquirideckbradentonbeach.com/component/rseventsp
 ro/event/4051-5p-sean-adam-walsh?Itemid=221
DTSTART;VALUE=DATE:20260522
LOCATION:Daiquiri Deck South Siesta Key (1250 Stickney Point Rd\, Siesta Ke
 y\, FL 34242)
SUMMARY:5p Sean Adam Walsh
URL:https://www.daiquirideckbradentonbeach.com/component/rseventspro/event/
 4051-5p-sean-adam-walsh?Itemid=221
END:VEVENT
END:VCALENDAR
