BEGIN:VCALENDAR
VERSION:2.0
PRODID:-//https://www.daiquirideckbradentonbeach.com///NONSGML kigkonsult.se iCalcreator 2.10.15//
METHOD:PUBLISH
BEGIN:VEVENT
UID:20260421T144422UTC-2303m3zurA@https://www.daiquirideckbradentonbeach.co
 m/
DTSTAMP:20260421T144422Z
DESCRIPTION: https://www.daiquirideckbradentonbeach.com/component/rseventsp
 ro/event/4046-5p-chris-otto?Itemid=221
DTSTART;VALUE=DATE:20260516
LOCATION:Daiquiri Deck South Siesta Key (1250 Stickney Point Rd\, Siesta Ke
 y\, FL 34242)
SUMMARY: 5p Chris Otto 
URL:https://www.daiquirideckbradentonbeach.com/component/rseventspro/event/
 4046-5p-chris-otto?Itemid=221
END:VEVENT
END:VCALENDAR
