BEGIN:VCALENDAR
VERSION:2.0
PRODID:-//https://www.daiquirideckbradentonbeach.com///NONSGML kigkonsult.se iCalcreator 2.10.15//
METHOD:PUBLISH
BEGIN:VEVENT
UID:20260421T143454UTC-1584UJv6Mi@https://www.daiquirideckbradentonbeach.co
 m/
DTSTAMP:20260421T143454Z
DESCRIPTION: https://www.daiquirideckbradentonbeach.com/component/rseventsp
 ro/event/4045-12p-brian-mansano?Itemid=221
DTSTART;VALUE=DATE:20260516
LOCATION:Daiquiri Deck South Siesta Key (1250 Stickney Point Rd\, Siesta Ke
 y\, FL 34242)
SUMMARY:12p Brian Mansano   
URL:https://www.daiquirideckbradentonbeach.com/component/rseventspro/event/
 4045-12p-brian-mansano?Itemid=221
END:VEVENT
END:VCALENDAR
