BEGIN:VCALENDAR
VERSION:2.0
PRODID:-//https://www.daiquirideckbradentonbeach.com///NONSGML kigkonsult.se iCalcreator 2.10.15//
METHOD:PUBLISH
BEGIN:VEVENT
UID:20260421T125617UTC-30476aEAAI@https://www.daiquirideckbradentonbeach.co
 m/
DTSTAMP:20260421T125617Z
DESCRIPTION: https://www.daiquirideckbradentonbeach.com/component/rseventsp
 ro/event/4044-5p-j-santi-trio?Itemid=221
DTSTART;VALUE=DATE:20260515
LOCATION:Daiquiri Deck South Siesta Key (1250 Stickney Point Rd\, Siesta Ke
 y\, FL 34242)
SUMMARY:5p J Santi Trio
URL:https://www.daiquirideckbradentonbeach.com/component/rseventspro/event/
 4044-5p-j-santi-trio?Itemid=221
END:VEVENT
END:VCALENDAR
